BEGIN:VCALENDAR
VERSION:2.0
PRODID:-//Alderwasley Parish Council//Meeting Calendar//EN
CALSCALE:GREGORIAN
METHOD:PUBLISH
BEGIN:VEVENT
UID:70382-20180515@alderwasleyparishcouncil.gov.uk
DTSTAMP:20260419T181753Z
DTSTART;VALUE=DATE:20180515
DTEND;VALUE=DATE:20180516
SUMMARY:Council Meeting &#8211\\; 15th May 2018
DESCRIPTION:Full Council Meeting\nView details: https://alderwasleyparishcouncil.gov.uk/meetings/council-meeting-15th-may-2018/
URL:https://alderwasleyparishcouncil.gov.uk/meetings/council-meeting-15th-may-2018/
END:VEVENT
END:VCALENDAR
