BEGIN:VCALENDAR
VERSION:2.0
PRODID:-//Alderwasley Parish Council//Meeting Calendar//EN
CALSCALE:GREGORIAN
METHOD:PUBLISH
BEGIN:VEVENT
UID:70388-20180821@alderwasleyparishcouncil.gov.uk
DTSTAMP:20260419T181828Z
DTSTART;VALUE=DATE:20180821
DTEND;VALUE=DATE:20180822
SUMMARY:Council Meeting &#8211\\; 21st August 2018
DESCRIPTION:Full Council Meeting\nView details: https://alderwasleyparishcouncil.gov.uk/meetings/council-meeting-21st-august-2018/
URL:https://alderwasleyparishcouncil.gov.uk/meetings/council-meeting-21st-august-2018/
END:VEVENT
END:VCALENDAR
