BEGIN:VCALENDAR
VERSION:2.0
PRODID:-//Alderwasley Parish Council//Meeting Calendar//EN
CALSCALE:GREGORIAN
METHOD:PUBLISH
BEGIN:VEVENT
UID:70391-20180918@alderwasleyparishcouncil.gov.uk
DTSTAMP:20260419T202353Z
DTSTART;VALUE=DATE:20180918
DTEND;VALUE=DATE:20180919
SUMMARY:Council Meeting &#8211\\; 18th September 2018
DESCRIPTION:Full Council Meeting\nView details: https://alderwasleyparishcouncil.gov.uk/meetings/council-meeting-18th-september-2018/
URL:https://alderwasleyparishcouncil.gov.uk/meetings/council-meeting-18th-september-2018/
END:VEVENT
END:VCALENDAR
