BEGIN:VCALENDAR
VERSION:2.0
PRODID:-//Alderwasley Parish Council//Meeting Calendar//EN
CALSCALE:GREGORIAN
METHOD:PUBLISH
BEGIN:VEVENT
UID:70394-20181120@alderwasleyparishcouncil.gov.uk
DTSTAMP:20260419T202521Z
DTSTART;VALUE=DATE:20181120
DTEND;VALUE=DATE:20181121
SUMMARY:Council Meeting &#8211\\; 20th November 2018
DESCRIPTION:Full Council Meeting\nView details: https://alderwasleyparishcouncil.gov.uk/meetings/council-meeting-20th-november-2018/
URL:https://alderwasleyparishcouncil.gov.uk/meetings/council-meeting-20th-november-2018/
END:VEVENT
END:VCALENDAR
