BEGIN:VCALENDAR
VERSION:2.0
PRODID:-//Alderwasley Parish Council//Meeting Calendar//EN
CALSCALE:GREGORIAN
METHOD:PUBLISH
BEGIN:VEVENT
UID:70397-20190115@alderwasleyparishcouncil.gov.uk
DTSTAMP:20260419T202353Z
DTSTART;VALUE=DATE:20190115
DTEND;VALUE=DATE:20190116
SUMMARY:Council Meeting &#8211\\; 15th January 2019
DESCRIPTION:Full Council Meeting\nView details: https://alderwasleyparishcouncil.gov.uk/meetings/council-meeting-15th-january-2019/
URL:https://alderwasleyparishcouncil.gov.uk/meetings/council-meeting-15th-january-2019/
END:VEVENT
END:VCALENDAR
