BEGIN:VCALENDAR
VERSION:2.0
PRODID:-//Alderwasley Parish Council//Meeting Calendar//EN
CALSCALE:GREGORIAN
METHOD:PUBLISH
BEGIN:VEVENT
UID:70400-20190319@alderwasleyparishcouncil.gov.uk
DTSTAMP:20260421T101532Z
DTSTART;VALUE=DATE:20190319
DTEND;VALUE=DATE:20190320
SUMMARY:Annual Meeting &#8211\\; 19th March 2019
DESCRIPTION:Annual Parish Meeting\nView details: https://alderwasleyparishcouncil.gov.uk/meetings/annual-meeting-19th-march-2019/
URL:https://alderwasleyparishcouncil.gov.uk/meetings/annual-meeting-19th-march-2019/
END:VEVENT
END:VCALENDAR
