BEGIN:VCALENDAR
VERSION:2.0
PRODID:-//Alderwasley Parish Council//Meeting Calendar//EN
CALSCALE:GREGORIAN
METHOD:PUBLISH
BEGIN:VEVENT
UID:70403-20190521@alderwasleyparishcouncil.gov.uk
DTSTAMP:20260419T202342Z
DTSTART;VALUE=DATE:20190521
DTEND;VALUE=DATE:20190522
SUMMARY:Council Meeting &#8211\\; 21st May 2019
DESCRIPTION:Full Council Meeting\nView details: https://alderwasleyparishcouncil.gov.uk/meetings/council-meeting-21st-may-2019/
URL:https://alderwasleyparishcouncil.gov.uk/meetings/council-meeting-21st-may-2019/
END:VEVENT
END:VCALENDAR
