BEGIN:VCALENDAR
VERSION:2.0
PRODID:-//Alderwasley Parish Council//Meeting Calendar//EN
CALSCALE:GREGORIAN
METHOD:PUBLISH
BEGIN:VEVENT
UID:70406-20190716@alderwasleyparishcouncil.gov.uk
DTSTAMP:20260419T221033Z
DTSTART;VALUE=DATE:20190716
DTEND;VALUE=DATE:20190717
SUMMARY:Council Meeting &#8211\\; 16th July 2019
DESCRIPTION:Full Council Meeting\nView details: https://alderwasleyparishcouncil.gov.uk/meetings/council-meeting-16th-july-2019/
URL:https://alderwasleyparishcouncil.gov.uk/meetings/council-meeting-16th-july-2019/
END:VEVENT
END:VCALENDAR
