BEGIN:VCALENDAR
VERSION:2.0
PRODID:-//Alderwasley Parish Council//Meeting Calendar//EN
CALSCALE:GREGORIAN
METHOD:PUBLISH
BEGIN:VEVENT
UID:70412-20191119@alderwasleyparishcouncil.gov.uk
DTSTAMP:20260419T221039Z
DTSTART;VALUE=DATE:20191119
DTEND;VALUE=DATE:20191120
SUMMARY:Council Meeting &#8211\\; 19th November 2019
DESCRIPTION:Full Council Meeting\nView details: https://alderwasleyparishcouncil.gov.uk/meetings/council-meeting-19th-november-2019/
URL:https://alderwasleyparishcouncil.gov.uk/meetings/council-meeting-19th-november-2019/
END:VEVENT
END:VCALENDAR
