BEGIN:VCALENDAR
VERSION:2.0
PRODID:-//Alderwasley Parish Council//Meeting Calendar//EN
CALSCALE:GREGORIAN
METHOD:PUBLISH
BEGIN:VEVENT
UID:70415-20200121@alderwasleyparishcouncil.gov.uk
DTSTAMP:20260419T221138Z
DTSTART;VALUE=DATE:20200121
DTEND;VALUE=DATE:20200122
SUMMARY:Council Meeting &#8211\\; 21st January 2020
DESCRIPTION:Full Council Meeting\nView details: https://alderwasleyparishcouncil.gov.uk/meetings/council-meeting-21st-january-2020/
URL:https://alderwasleyparishcouncil.gov.uk/meetings/council-meeting-21st-january-2020/
END:VEVENT
END:VCALENDAR
