BEGIN:VCALENDAR
VERSION:2.0
PRODID:-//Alderwasley Parish Council//Meeting Calendar//EN
CALSCALE:GREGORIAN
METHOD:PUBLISH
BEGIN:VEVENT
UID:70421-20200317@alderwasleyparishcouncil.gov.uk
DTSTAMP:20260421T083857Z
DTSTART;VALUE=DATE:20200317
DTEND;VALUE=DATE:20200318
SUMMARY:Annual Meeting &#8211\\; 17th March 2020
DESCRIPTION:Annual Parish Meeting\nView details: https://alderwasleyparishcouncil.gov.uk/meetings/annual-meeting-17th-march-2020/
URL:https://alderwasleyparishcouncil.gov.uk/meetings/annual-meeting-17th-march-2020/
END:VEVENT
END:VCALENDAR
