BEGIN:VCALENDAR
VERSION:2.0
PRODID:-//Alderwasley Parish Council//Meeting Calendar//EN
CALSCALE:GREGORIAN
METHOD:PUBLISH
BEGIN:VEVENT
UID:70427-20200915@alderwasleyparishcouncil.gov.uk
DTSTAMP:20260420T001319Z
DTSTART;VALUE=DATE:20200915
DTEND;VALUE=DATE:20200916
SUMMARY:Council Meeting &#8211\\; 15th September 2020
DESCRIPTION:Full Council Meeting\nView details: https://alderwasleyparishcouncil.gov.uk/meetings/council-meeting-15th-september-2020/
URL:https://alderwasleyparishcouncil.gov.uk/meetings/council-meeting-15th-september-2020/
END:VEVENT
END:VCALENDAR
