BEGIN:VCALENDAR
VERSION:2.0
PRODID:-//Alderwasley Parish Council//Meeting Calendar//EN
CALSCALE:GREGORIAN
METHOD:PUBLISH
BEGIN:VEVENT
UID:70430-20201117@alderwasleyparishcouncil.gov.uk
DTSTAMP:20260420T001319Z
DTSTART;VALUE=DATE:20201117
DTEND;VALUE=DATE:20201118
SUMMARY:Council Meeting &#8211\\; 17th November 2020
DESCRIPTION:Full Council Meeting\nView details: https://alderwasleyparishcouncil.gov.uk/meetings/council-meeting-17th-november-2020/
URL:https://alderwasleyparishcouncil.gov.uk/meetings/council-meeting-17th-november-2020/
END:VEVENT
END:VCALENDAR
