BEGIN:VCALENDAR
VERSION:2.0
PRODID:-//Alderwasley Parish Council//Meeting Calendar//EN
CALSCALE:GREGORIAN
METHOD:PUBLISH
BEGIN:VEVENT
UID:70440-20210504@alderwasleyparishcouncil.gov.uk
DTSTAMP:20260420T022625Z
DTSTART;VALUE=DATE:20210504
DTEND;VALUE=DATE:20210505
SUMMARY:Council Meeting &#8211\\; 4th May 2021
DESCRIPTION:Full Council Meeting\nView details: https://alderwasleyparishcouncil.gov.uk/meetings/council-meeting-4th-may-2021/
URL:https://alderwasleyparishcouncil.gov.uk/meetings/council-meeting-4th-may-2021/
END:VEVENT
END:VCALENDAR
