BEGIN:VCALENDAR
VERSION:2.0
PRODID:-//Alderwasley Parish Council//Meeting Calendar//EN
CALSCALE:GREGORIAN
METHOD:PUBLISH
BEGIN:VEVENT
UID:70452-20220118@alderwasleyparishcouncil.gov.uk
DTSTAMP:20260420T000859Z
DTSTART;VALUE=DATE:20220118
DTEND;VALUE=DATE:20220119
SUMMARY:Council Meeting &#8211\\; 18th January 2022
DESCRIPTION:Full Council Meeting\nView details: https://alderwasleyparishcouncil.gov.uk/meetings/council-meeting-18th-january-2022/
URL:https://alderwasleyparishcouncil.gov.uk/meetings/council-meeting-18th-january-2022/
END:VEVENT
END:VCALENDAR
