BEGIN:VCALENDAR
VERSION:2.0
PRODID:-//Alderwasley Parish Council//Meeting Calendar//EN
CALSCALE:GREGORIAN
METHOD:PUBLISH
BEGIN:VEVENT
UID:70455-20220315@alderwasleyparishcouncil.gov.uk
DTSTAMP:20260421T084036Z
DTSTART;VALUE=DATE:20220315
DTEND;VALUE=DATE:20220316
SUMMARY:Annual Meeting &#8211\\; 15th March 2022
DESCRIPTION:Annual Parish Meeting\nView details: https://alderwasleyparishcouncil.gov.uk/meetings/annual-meeting-15th-march-2022/
URL:https://alderwasleyparishcouncil.gov.uk/meetings/annual-meeting-15th-march-2022/
END:VEVENT
END:VCALENDAR
