BEGIN:VCALENDAR
VERSION:2.0
PRODID:-//Alderwasley Parish Council//Meeting Calendar//EN
CALSCALE:GREGORIAN
METHOD:PUBLISH
BEGIN:VEVENT
UID:70458-20220517@alderwasleyparishcouncil.gov.uk
DTSTAMP:20260420T002030Z
DTSTART;VALUE=DATE:20220517
DTEND;VALUE=DATE:20220518
SUMMARY:Council Meeting &#8211\\; 17th May 2022
DESCRIPTION:Full Council Meeting\nView details: https://alderwasleyparishcouncil.gov.uk/meetings/council-meeting-17th-may-2022/
URL:https://alderwasleyparishcouncil.gov.uk/meetings/council-meeting-17th-may-2022/
END:VEVENT
END:VCALENDAR
