BEGIN:VCALENDAR
VERSION:2.0
PRODID:-//Alderwasley Parish Council//Meeting Calendar//EN
CALSCALE:GREGORIAN
METHOD:PUBLISH
BEGIN:VEVENT
UID:70461-20220601@alderwasleyparishcouncil.gov.uk
DTSTAMP:20260420T103141Z
DTSTART;VALUE=DATE:20220601
DTEND;VALUE=DATE:20220602
SUMMARY:Council Meeting &#8211\\; 1st June 2022
DESCRIPTION:Full Council Meeting\nView details: https://alderwasleyparishcouncil.gov.uk/meetings/council-meeting-1st-june-2022/
URL:https://alderwasleyparishcouncil.gov.uk/meetings/council-meeting-1st-june-2022/
END:VEVENT
END:VCALENDAR
