BEGIN:VCALENDAR
VERSION:2.0
PRODID:-//Alderwasley Parish Council//Meeting Calendar//EN
CALSCALE:GREGORIAN
METHOD:PUBLISH
BEGIN:VEVENT
UID:70482-20230516@alderwasleyparishcouncil.gov.uk
DTSTAMP:20260419T202441Z
DTSTART;VALUE=DATE:20230516
DTEND;VALUE=DATE:20230517
SUMMARY:Council Meeting &#8211\\; 16th May 2023
DESCRIPTION:Full Council Meeting\nView details: https://alderwasleyparishcouncil.gov.uk/meetings/council-meeting-16th-may-2023/
URL:https://alderwasleyparishcouncil.gov.uk/meetings/council-meeting-16th-may-2023/
END:VEVENT
END:VCALENDAR
