BEGIN:VCALENDAR
VERSION:2.0
PRODID:-//Alderwasley Parish Council//Meeting Calendar//EN
CALSCALE:GREGORIAN
METHOD:PUBLISH
BEGIN:VEVENT
UID:70488-20230919@alderwasleyparishcouncil.gov.uk
DTSTAMP:20260419T133617Z
DTSTART;VALUE=DATE:20230919
DTEND;VALUE=DATE:20230920
SUMMARY:Council Meeting &#8211\\; 19th September 2023
DESCRIPTION:Full Council Meeting\nView details: https://alderwasleyparishcouncil.gov.uk/meetings/council-meeting-19th-september-2023/
URL:https://alderwasleyparishcouncil.gov.uk/meetings/council-meeting-19th-september-2023/
END:VEVENT
END:VCALENDAR
