BEGIN:VCALENDAR
VERSION:2.0
PRODID:-//Alderwasley Parish Council//Meeting Calendar//EN
CALSCALE:GREGORIAN
METHOD:PUBLISH
BEGIN:VEVENT
UID:70855-20240716@alderwasleyparishcouncil.gov.uk
DTSTAMP:20260419T164510Z
DTSTART;VALUE=DATE:20240716
DTEND;VALUE=DATE:20240717
SUMMARY:Council Meeting
DESCRIPTION:Full Council Meeting\nView details: https://alderwasleyparishcouncil.gov.uk/meetings/meeting-name-here/
URL:https://alderwasleyparishcouncil.gov.uk/meetings/meeting-name-here/
END:VEVENT
END:VCALENDAR
