BEGIN:VCALENDAR
VERSION:2.0
PRODID:-//Alderwasley Parish Council//Meeting Calendar//EN
CALSCALE:GREGORIAN
METHOD:PUBLISH
BEGIN:VEVENT
UID:72335-20240917@alderwasleyparishcouncil.gov.uk
DTSTAMP:20260419T144753Z
DTSTART;VALUE=DATE:20240917
DTEND;VALUE=DATE:20240918
SUMMARY:Council Meeting
DESCRIPTION:Full Council Meeting\nView details: https://alderwasleyparishcouncil.gov.uk/meetings/council-meeting-2/
URL:https://alderwasleyparishcouncil.gov.uk/meetings/council-meeting-2/
END:VEVENT
END:VCALENDAR
