BEGIN:VCALENDAR
VERSION:2.0
PRODID:-//Alderwasley Parish Council//Meeting Calendar//EN
CALSCALE:GREGORIAN
METHOD:PUBLISH
BEGIN:VEVENT
UID:72890-20250114@alderwasleyparishcouncil.gov.uk
DTSTAMP:20260419T145102Z
DTSTART;VALUE=DATE:20250114
DTEND;VALUE=DATE:20250115
SUMMARY:Council Meeting
DESCRIPTION:Full Council Meeting\nView details: https://alderwasleyparishcouncil.gov.uk/meetings/council-meeting-4/
URL:https://alderwasleyparishcouncil.gov.uk/meetings/council-meeting-4/
END:VEVENT
END:VCALENDAR
