BEGIN:VCALENDAR
VERSION:2.0
PRODID:-//Alderwasley Parish Council//Meeting Calendar//EN
CALSCALE:GREGORIAN
METHOD:PUBLISH
BEGIN:VEVENT
UID:73539-20250715@alderwasleyparishcouncil.gov.uk
DTSTAMP:20260419T130005Z
DTSTART;VALUE=DATE:20250715
DTEND;VALUE=DATE:20250716
SUMMARY:Council Meeting
DESCRIPTION:Full Council Meeting\nView details: https://alderwasleyparishcouncil.gov.uk/meetings/council-meeting-7/
URL:https://alderwasleyparishcouncil.gov.uk/meetings/council-meeting-7/
END:VEVENT
END:VCALENDAR
