BEGIN:VCALENDAR
VERSION:2.0
PRODID:-//Alderwasley Parish Council//Meeting Calendar//EN
CALSCALE:GREGORIAN
METHOD:PUBLISH
BEGIN:VEVENT
UID:73550-20250916@alderwasleyparishcouncil.gov.uk
DTSTAMP:20260419T125959Z
DTSTART;VALUE=DATE:20250916
DTEND;VALUE=DATE:20250917
SUMMARY:Council Meeting
DESCRIPTION:Full Council Meeting\nView details: https://alderwasleyparishcouncil.gov.uk/meetings/council-meeting-8/
URL:https://alderwasleyparishcouncil.gov.uk/meetings/council-meeting-8/
END:VEVENT
END:VCALENDAR
