BEGIN:VCALENDAR
VERSION:2.0
PRODID:-//Alderwasley Parish Council//Meeting Calendar//EN
CALSCALE:GREGORIAN
METHOD:PUBLISH
BEGIN:VEVENT
UID:73579-20251118@alderwasleyparishcouncil.gov.uk
DTSTAMP:20260419T115702Z
DTSTART;VALUE=DATE:20251118
DTEND;VALUE=DATE:20251119
SUMMARY:Council Meeting
DESCRIPTION:Full Council Meeting\nView details: https://alderwasleyparishcouncil.gov.uk/meetings/council-meeting-9/
URL:https://alderwasleyparishcouncil.gov.uk/meetings/council-meeting-9/
END:VEVENT
END:VCALENDAR
