BEGIN:VCALENDAR
VERSION:2.0
PRODID:-//Alderwasley Parish Council//Meeting Calendar//EN
CALSCALE:GREGORIAN
METHOD:PUBLISH
BEGIN:VEVENT
UID:75102-20260120@alderwasleyparishcouncil.gov.uk
DTSTAMP:20260419T115107Z
DTSTART;VALUE=DATE:20260120
DTEND;VALUE=DATE:20260121
SUMMARY:Council Meeting
DESCRIPTION:Full Council Meeting\nView details: https://alderwasleyparishcouncil.gov.uk/meetings/council-meeting-10/
URL:https://alderwasleyparishcouncil.gov.uk/meetings/council-meeting-10/
END:VEVENT
END:VCALENDAR
